BEGIN:VCALENDAR
VERSION:2.0
PRODID:icalendar-ruby
CALSCALE:GREGORIAN
METHOD:PUBLISH
BEGIN:VEVENT
DTSTAMP:20260422T022729Z
UID:54-313203@thebridgeatgreer.com
DTSTART:20261007T223000Z
DTEND:20261008T000000Z
CLASS:PUBLIC
CREATED:20260421T204757
DESCRIPTION:Group meets Wednesday evening on most Wednesday evenings. If yo
 u are interested in participating contact us at divorcecareat.thebridgeatg
 reer@gmail.com.\nNew 13 week cycle begins on January 28\, 2026.
LAST-MODIFIED:20260421T204757
LOCATION:The Bridge
SUMMARY:DivorceCare Ministry
URL;VALUE=URI:https://www.thebridgeatgreer.com/events/divorcecare-ministry/
 2026-10-07
ATTACH;FILENAME=Image.jpeg;FMTTYPE=image/jpeg:https://dq5pwpg1q8ru0.cloudfr
 ont.net/2025/07/21/18/15/08/d45a26a9-f01c-4633-9dea-ab289183f56b/Image.jpe
 g
END:VEVENT
END:VCALENDAR
